BEGIN:VCALENDAR
VERSION:2.0
PRODID:-//clubinone//NONSGML clubinone.de iCalcreator 2.22.1//
METHOD:PUBLISH
BEGIN:VEVENT
UID:20260420T111851-69e5ef7b04be0@gctl.cio.golf
DTSTAMP:20260420T111851
DESCRIPTION:Freundschaftsspiel in Ankum:\nEinzel - 0\, 18-Löcher (vorgabewirksam)
DTSTART:20260429
DTEND:20260430
LOCATION:Golfclub Tecklenburger Land e.V.
SUMMARY:Freundschaftsspiel in Ankum
END:VEVENT
END:VCALENDAR