BEGIN:VCALENDAR
VERSION:2.0
PRODID:-//clubinone//NONSGML clubinone.de iCalcreator 2.22.1//
METHOD:PUBLISH
BEGIN:VEVENT
UID:20260420T111749-69e5ef3de724f@gctl.cio.golf
DTSTAMP:20260420T111749
DESCRIPTION:AfterWork :\nEinzel - 1\, 9-Löcher (vorgabewirksam)
DTSTART:20260424
DTEND:20260425
LOCATION:Golfclub Tecklenburger Land e.V.
SUMMARY:AfterWork 
END:VEVENT
END:VCALENDAR