BEGIN:VCALENDAR
VERSION:2.0
PRODID:-//clubinone//NONSGML clubinone.de iCalcreator 2.22.1//
METHOD:PUBLISH
BEGIN:VEVENT
UID:20260420T112149-69e5f02d87b84@gctl.cio.golf
DTSTAMP:20260420T112149
DESCRIPTION:Monatspreis - Samsonite Golf Club Tour :\nEinzel - 1\, 18-Löcher (vorgabewirksam)
DTSTART:20260503
DTEND:20260504
LOCATION:Golfclub Tecklenburger Land e.V.
SUMMARY:Monatspreis - Samsonite Golf Club Tour 
END:VEVENT
END:VCALENDAR