BEGIN:VCALENDAR
VERSION:2.0
PRODID:-//clubinone//NONSGML clubinone.de iCalcreator 2.22.1//
METHOD:PUBLISH
BEGIN:VEVENT
UID:20260420T111850-69e5ef7ac0bda@gctl.cio.golf
DTSTAMP:20260420T111850
DESCRIPTION:Damengolf - 18 Loch - Zählspiel / max. Netto-Doppelbogey:\nEinzel - 8\, 18-Löcher (vorgabewirksam)
DTSTART:20260428
DTEND:20260429
LOCATION:Golfclub Tecklenburger Land e.V.
SUMMARY:Damengolf - 18 Loch - Zählspiel / max. Netto-Doppelbogey
END:VEVENT
END:VCALENDAR