BEGIN:VCALENDAR
VERSION:2.0
PRODID:-//clubinone//NONSGML clubinone.de iCalcreator 2.22.1//
METHOD:PUBLISH
BEGIN:VEVENT
UID:20260420T111946-69e5efb2302ca@gctl.cio.golf
DTSTAMP:20260420T111946
DESCRIPTION:Damengolf - 9 Loch - Zählspiel / max. Netto-Doppelbogey:\nEinzel - 8\, 9-Löcher (vorgabewirksam)
DTSTART:20260421
DTEND:20260422
LOCATION:Golfclub Tecklenburger Land e.V.
SUMMARY:Damengolf - 9 Loch - Zählspiel / max. Netto-Doppelbogey
END:VEVENT
END:VCALENDAR