BEGIN:VCALENDAR
VERSION:2.0
PRODID:-//clubinone//NONSGML clubinone.de iCalcreator 2.22.1//
METHOD:PUBLISH
BEGIN:VEVENT
UID:20260420T112434-69e5f0d299e5d@gctl.cio.golf
DTSTAMP:20260420T112434
DESCRIPTION:Herrengolf - 9 Loch - Zählspiel / max. Netto-Doppelbogey:\nEinzel - 8\, 9-Löcher (vorgabewirksam)
DTSTART:20260422
DTEND:20260423
LOCATION:Golfclub Tecklenburger Land e.V.
SUMMARY:Herrengolf - 9 Loch - Zählspiel / max. Netto-Doppelbogey
END:VEVENT
END:VCALENDAR