BEGIN:VCALENDAR
VERSION:2.0
PRODID:-//clubinone//NONSGML clubinone.de iCalcreator 2.22.1//
METHOD:PUBLISH
BEGIN:VEVENT
UID:20260420T112312-69e5f080852ce@gctl.cio.golf
DTSTAMP:20260420T112312
DESCRIPTION:Seniorengolf - Zählspiel / max. Score 11:\nEinzel - 8\, 9-Löcher (vorgabewirksam)
DTSTART:20260430
DTEND:20260501
LOCATION:Golfclub Tecklenburger Land e.V.
SUMMARY:Seniorengolf - Zählspiel / max. Score 11
END:VEVENT
END:VCALENDAR